BEGIN:VCALENDAR
VERSION:2.0
PRODID:SchoolNow
CALSCALE:GREGORIAN
BEGIN:VEVENT
UID:a501dfe6-e558-11ee-a159-0a58a9feac02
DTSTAMP:20240318T185218Z
SUMMARY:Free Tacos (St. Charles)
URL;VALUE=URI:https://www.rpcc.edu/calendar/5574394/free-tacos-st-charles
DTSTART:20240429T153000Z
DTEND:20240429T170000Z
END:VEVENT
END:VCALENDAR
