BEGIN:VCALENDAR
VERSION:2.0
PRODID:SchoolNow
CALSCALE:GREGORIAN
BEGIN:VEVENT
UID:8c62c522-e558-11ee-b526-025533a8e799
DTSTAMP:20240318T185137Z
SUMMARY:Free Tacos (Westside)
URL;VALUE=URI:https://www.rpcc.edu/calendar/5574393/free-tacos-westside
DTSTART:20240502T163000Z
DTEND:20240502T180000Z
END:VEVENT
END:VCALENDAR
