BEGIN:VCALENDAR
VERSION:2.0
PRODID:SchoolNow
CALSCALE:GREGORIAN
BEGIN:VEVENT
UID:6c361f88-e558-11ee-9f7e-0a58a9feac02
DTSTAMP:20240318T185043Z
SUMMARY:Free Tacos (Gonzales)
URL;VALUE=URI:https://www.rpcc.edu/calendar/5574392/free-tacos-gonzales
DTSTART:20240501T163000Z
DTEND:20240501T180000Z
END:VEVENT
END:VCALENDAR
