BEGIN:VCALENDAR
VERSION:2.0
PRODID:SchoolNow
CALSCALE:GREGORIAN
BEGIN:VEVENT
UID:4e0c6904-e558-11ee-afe1-0a58a9feac02
DTSTAMP:20240318T184952Z
SUMMARY:Free Tacos (Reserve)
URL;VALUE=URI:https://www.rpcc.edu/calendar/5574391/free-tacos-reserve
DTSTART:20240430T153000Z
DTEND:20240430T170000Z
END:VEVENT
END:VCALENDAR
