BEGIN:VCALENDAR
VERSION:2.0
PRODID:SchoolNow
CALSCALE:GREGORIAN
BEGIN:VEVENT
UID:cf0524bc-e556-11ee-8435-0a58a9feac02
DTSTAMP:20240318T183909Z
SUMMARY:Goat Yoga (Gonzales) Finals Week Relaxer
URL;VALUE=URI:https://www.rpcc.edu/calendar/5574390/goat-yoga-gonzales-fina
 ls-week-relaxer
DTSTART:20240506T170000Z
DTEND:20240506T180000Z
END:VEVENT
END:VCALENDAR
