BEGIN:VCALENDAR
VERSION:2.0
PRODID:SchoolNow
CALSCALE:GREGORIAN
BEGIN:VEVENT
UID:a6e2f36a-e556-11ee-8ec7-0a58a9feac02
DTSTAMP:20240318T183802Z
SUMMARY:Spring Fest (Reserve)
URL;VALUE=URI:https://www.rpcc.edu/calendar/5574389/spring-fest-reserve
DTSTART:20240409T160000Z
DTEND:20240409T180000Z
END:VEVENT
END:VCALENDAR
