BEGIN:VCALENDAR
VERSION:2.0
PRODID:SchoolNow
CALSCALE:GREGORIAN
BEGIN:VEVENT
UID:93509a32-e556-11ee-bac1-0afff7b5a489
DTSTAMP:20240318T183729Z
SUMMARY:Spring Fest (Gonzales)
URL;VALUE=URI:https://www.rpcc.edu/calendar/5574388/spring-fest-gonzales
DTSTART:20240410T160000Z
DTEND:20240410T180000Z
END:VEVENT
END:VCALENDAR
