BEGIN:VCALENDAR
VERSION:2.0
PRODID:SchoolNow
CALSCALE:GREGORIAN
BEGIN:VEVENT
UID:73fa6828-c758-11ee-a548-021caa889781
DTSTAMP:20240209T143521Z
SUMMARY:Rougarou Rendezvous (Westside)
URL;VALUE=URI:https://www.rpcc.edu/calendar/5293238/rougarou-rendezvous-wes
 tside
DTSTART;VALUE=DATE:20240411
DTEND;VALUE=DATE:20240412
END:VEVENT
END:VCALENDAR
