BEGIN:VCALENDAR
VERSION:2.0
PRODID:SchoolNow
CALSCALE:GREGORIAN
BEGIN:VEVENT
UID:5b69ee0a-c758-11ee-bd6c-0a9b78017df3
DTSTAMP:20240306T192922Z
SUMMARY:Girls in STEM (Westside)
URL;VALUE=URI:https://www.rpcc.edu/calendar/5293237/big-girls-in-stem-wests
 ide
DTSTART:20240314T133400Z
DTEND:20240314T143400Z
END:VEVENT
END:VCALENDAR
