BEGIN:VCALENDAR
VERSION:2.0
PRODID:SchoolNow
CALSCALE:GREGORIAN
BEGIN:VEVENT
UID:7b62282c-c6bc-11ee-bab5-0a9b78017df3
DTSTAMP:20240208T195852Z
SUMMARY:Health & Harmony (Health Fair)
URL;VALUE=URI:https://www.rpcc.edu/calendar/5287271/health-harmony-health-f
 air
DTSTART:20240417T150000Z
DTEND:20240417T190000Z
END:VEVENT
END:VCALENDAR
