BEGIN:VCALENDAR
VERSION:2.0
PRODID:SchoolNow
CALSCALE:GREGORIAN
BEGIN:VEVENT
UID:f2f7f81a-c128-11ee-bb16-0eda9948f0a5
DTSTAMP:20240201T174011Z
SUMMARY:SGA Family Cookout
LOCATION:Gonzales (Outside)
URL;VALUE=URI:https://www.rpcc.edu/calendar/5241032/sga-family-cookout
DTSTART:20240228T173000Z
DTEND:20240228T190000Z
END:VEVENT
END:VCALENDAR
