BEGIN:VCALENDAR
VERSION:2.0
PRODID:SchoolNow
CALSCALE:GREGORIAN
BEGIN:VEVENT
UID:62b497cc-c128-11ee-bdc8-0a58a9feac02
DTSTAMP:20240202T142525Z
SUMMARY:SGA Movie Day (Gonzales)
LOCATION:BASF Room
URL;VALUE=URI:https://www.rpcc.edu/calendar/5241031/sga-movie-day-gonzales
DTSTART:20240226T153000Z
DTEND:20240226T213000Z
END:VEVENT
END:VCALENDAR
