BEGIN:VCALENDAR
VERSION:2.0
PRODID:SchoolNow
CALSCALE:GREGORIAN
BEGIN:VEVENT
UID:5ad7ee1a-c127-11ee-9efe-0a58a9feac02
DTSTAMP:20240201T172846Z
SUMMARY:Rolling Flavors Cookout (SGA-Gonzales)
LOCATION:Gonzales
URL;VALUE=URI:https://www.rpcc.edu/calendar/5241029/rolling-flavors-cookout
 -sga-gonzales
DTSTART:20240226T170000Z
DTEND:20240226T190000Z
END:VEVENT
END:VCALENDAR
