BEGIN:VCALENDAR
VERSION:2.0
PRODID:SchoolNow
CALSCALE:GREGORIAN
BEGIN:VEVENT
UID:4c871d2c-c127-11ee-8103-02ddb0fb0fa7
DTSTAMP:20240201T172822Z
SUMMARY:Rolling Flavors Cookout (SGA-Gonzales)
LOCATION:Gonzales
URL;VALUE=URI:https://www.rpcc.edu/calendar/5241028/rolling-flavors-cookout
 -sga-gonzales
DTSTART:20240222T170000Z
DTEND:20240222T190000Z
END:VEVENT
END:VCALENDAR
