BEGIN:VCALENDAR
VERSION:2.0
PRODID:SchoolNow
CALSCALE:GREGORIAN
BEGIN:VEVENT
UID:378b81b0-c127-11ee-8efb-0a58a9feac02
DTSTAMP:20240201T172747Z
SUMMARY:Rolling Flavors Cookout (SGA-Gonzales)
LOCATION:Gonzales
URL;VALUE=URI:https://www.rpcc.edu/calendar/5241027/rolling-flavors-cookout
 -sga-gonzales
DTSTART:20240219T170000Z
DTEND:20240219T190000Z
END:VEVENT
END:VCALENDAR
