BEGIN:VCALENDAR
VERSION:2.0
PRODID:SchoolNow
CALSCALE:GREGORIAN
BEGIN:VEVENT
UID:15b019f2-c127-11ee-868c-0ee40f164371
DTSTAMP:20240201T172650Z
SUMMARY:Rolling Flavors Cookout (SGA-Gonzales)
LOCATION:Gonzales
URL;VALUE=URI:https://www.rpcc.edu/calendar/5241026/rolling-flavors-cookout
 -sga-gonzales
DTSTART:20240215T170000Z
DTEND:20240215T190000Z
END:VEVENT
END:VCALENDAR
