BEGIN:VCALENDAR
VERSION:2.0
PRODID:SchoolNow
CALSCALE:GREGORIAN
BEGIN:VEVENT
UID:0725119e-c127-11ee-a5fc-0a58a9feac02
DTSTAMP:20240201T172626Z
SUMMARY:Rolling Flavors Cookout (SGA-Gonzales)
LOCATION:Gonzales
URL;VALUE=URI:https://www.rpcc.edu/calendar/5241025/rolling-flavors-cookout
 -sga-gonzales
DTSTART:20240212T170000Z
DTEND:20240212T190000Z
END:VEVENT
END:VCALENDAR
