BEGIN:VCALENDAR
VERSION:2.0
PRODID:SchoolNow
CALSCALE:GREGORIAN
BEGIN:VEVENT
UID:d85dcb9e-c126-11ee-b8ba-0ae4cde2d56f
DTSTAMP:20240201T172507Z
SUMMARY:Rolling Flavors Cookout (SGA-Gonzales)
LOCATION:Gonzales
URL;VALUE=URI:https://www.rpcc.edu/calendar/5241023/rolling-flavors-cookout
 -sga-gonzales
DTSTART:20240205T170000Z
DTEND:20240205T190000Z
END:VEVENT
END:VCALENDAR
