BEGIN:VCALENDAR
VERSION:2.0
PRODID:SchoolNow
CALSCALE:GREGORIAN
BEGIN:VEVENT
UID:038bdd3a-bfb8-11ee-a214-02875ce537a3
DTSTAMP:20240130T213914Z
SUMMARY:InterVarsity Club Meeting (Gonzales)
URL;VALUE=URI:https://www.rpcc.edu/calendar/5231980/intervarsity-club-meeti
 ng-gonzales
DTSTART:20240423T180000Z
DTEND:20240423T190000Z
END:VEVENT
END:VCALENDAR
