BEGIN:VCALENDAR
VERSION:2.0
PRODID:SchoolNow
CALSCALE:GREGORIAN
BEGIN:VEVENT
UID:f9080b0e-bfb7-11ee-810d-0a58a9feac02
DTSTAMP:20240130T213857Z
SUMMARY:InterVarsity Club Meeting (Gonzales)
URL;VALUE=URI:https://www.rpcc.edu/calendar/5231979/intervarsity-club-meeti
 ng-gonzales
DTSTART:20240409T180000Z
DTEND:20240409T190000Z
END:VEVENT
END:VCALENDAR
