BEGIN:VCALENDAR
VERSION:2.0
PRODID:SchoolNow
CALSCALE:GREGORIAN
BEGIN:VEVENT
UID:ec76891a-bfb7-11ee-a6a7-0ed4dec2d5e1
DTSTAMP:20240130T213836Z
SUMMARY:InterVarsity Club Meeting (Gonzales)
URL;VALUE=URI:https://www.rpcc.edu/calendar/5231978/intervarsity-club-meeti
 ng-gonzales
DTSTART:20240319T180000Z
DTEND:20240319T190000Z
END:VEVENT
END:VCALENDAR
