BEGIN:VCALENDAR
VERSION:2.0
PRODID:SchoolNow
CALSCALE:GREGORIAN
BEGIN:VEVENT
UID:e1a00264-bfb7-11ee-bc70-02875ce537a3
DTSTAMP:20240130T213818Z
SUMMARY:InterVarsity Club Meeting (Gonzales)
URL;VALUE=URI:https://www.rpcc.edu/calendar/5231977/intervarsity-club-meeti
 ng-gonzales
DTSTART:20240305T190000Z
DTEND:20240305T200000Z
END:VEVENT
END:VCALENDAR
