BEGIN:VCALENDAR
VERSION:2.0
PRODID:SchoolNow
CALSCALE:GREGORIAN
BEGIN:VEVENT
UID:d5cd388a-bfb7-11ee-aab7-0a58a9feac02
DTSTAMP:20240130T213758Z
SUMMARY:InterVarsity Club Meeting (Gonzales)
URL;VALUE=URI:https://www.rpcc.edu/calendar/5231976/intervarsity-club-meeti
 ng-gonzales
DTSTART:20240220T190000Z
DTEND:20240220T200000Z
END:VEVENT
END:VCALENDAR
