BEGIN:VCALENDAR
VERSION:2.0
PRODID:SchoolNow
CALSCALE:GREGORIAN
BEGIN:VEVENT
UID:bb745568-bfb7-11ee-a533-0ed4dec2d5e1
DTSTAMP:20240130T213713Z
SUMMARY:InterVarsity Club Meeting (Gonzales)
URL;VALUE=URI:https://www.rpcc.edu/calendar/5231975/intervarsity-club-meeti
 ng-gonzales
DTSTART:20240206T200000Z
DTEND:20240206T210000Z
END:VEVENT
END:VCALENDAR
