BEGIN:VCALENDAR
VERSION:2.0
PRODID:SchoolNow
CALSCALE:GREGORIAN
BEGIN:VEVENT
UID:caf15f52-bf9b-11ee-b961-0a58a9feac02
DTSTAMP:20240130T181714Z
SUMMARY:Pinning Ceremony
URL;VALUE=URI:https://www.rpcc.edu/calendar/5231529/pinning-ceremony
DTSTART;VALUE=DATE:20240504
DTEND;VALUE=DATE:20240505
END:VEVENT
END:VCALENDAR
