BEGIN:VCALENDAR
VERSION:2.0
PRODID:SchoolNow
CALSCALE:GREGORIAN
BEGIN:VEVENT
UID:a9a97bae-bf9b-11ee-9479-0a58a9feac02
DTSTAMP:20240130T181618Z
SUMMARY:Grad Fest at Gonzales
LOCATION:Gonzales
URL;VALUE=URI:https://www.rpcc.edu/calendar/5231528/grad-fest-at-gonzales
DTSTART:20240307T220000Z
DTEND:20240308T010000Z
END:VEVENT
END:VCALENDAR
