BEGIN:VCALENDAR
VERSION:2.0
PRODID:SchoolNow
CALSCALE:GREGORIAN
BEGIN:VEVENT
UID:77a246a6-bf99-11ee-8c2f-0a58a9feac02
DTSTAMP:20240130T180035Z
SUMMARY:Multicultural Food Fair at Reserve
URL;VALUE=URI:https://www.rpcc.edu/calendar/5231526/multicultural-food-fair
 -at-reserve
DTSTART;VALUE=DATE:20240321
DTEND;VALUE=DATE:20240322
END:VEVENT
END:VCALENDAR
