BEGIN:VCALENDAR
VERSION:2.0
PRODID:SchoolNow
CALSCALE:GREGORIAN
BEGIN:VEVENT
UID:6c1d4c18-bf99-11ee-914c-0ac74a3ba04f
DTSTAMP:20240130T180015Z
SUMMARY:Multicultural Food Fair at Gonzales
URL;VALUE=URI:https://www.rpcc.edu/calendar/5231525/multicultural-food-fair
 -at-gonzales
DTSTART;VALUE=DATE:20240320
DTEND;VALUE=DATE:20240321
END:VEVENT
END:VCALENDAR
