BEGIN:VCALENDAR
VERSION:2.0
PRODID:SchoolNow
CALSCALE:GREGORIAN
BEGIN:VEVENT
UID:f65c0d14-beb4-11ee-804e-0a58a9feac02
DTSTAMP:20240129T144453Z
SUMMARY:Student Resource Fair (St. Charles)
LOCATION:St. Charles
URL;VALUE=URI:https://www.rpcc.edu/calendar/5225571/student-resource-fair-s
 t-charles
DTSTART:20240410T150000Z
DTEND:20240410T190000Z
END:VEVENT
END:VCALENDAR
