BEGIN:VCALENDAR
VERSION:2.0
PRODID:SchoolNow
CALSCALE:GREGORIAN
BEGIN:VEVENT
UID:cc1a4d18-beb4-11ee-8112-0af5a38aa293
DTSTAMP:20240129T144342Z
SUMMARY:Hot Chocolate/Early Summer Registration (St. Charles)
URL;VALUE=URI:https://www.rpcc.edu/calendar/5225570/hot-chocolate-early-sum
 mer-registration-st-charles
DTSTART:20240227T140000Z
DTEND:20240227T220000Z
END:VEVENT
END:VCALENDAR
