BEGIN:VCALENDAR
VERSION:2.0
PRODID:SchoolNow
CALSCALE:GREGORIAN
BEGIN:VEVENT
UID:5c8be7d2-beb3-11ee-b3c7-0a58a9feac02
DTSTAMP:20240129T143325Z
SUMMARY:Opioids Presentation (Virtual)
LOCATION:Online
URL;VALUE=URI:https://www.rpcc.edu/calendar/5225568/opioids-presentation-vi
 rtual
DTSTART:20240208T170000Z
DTEND:20240208T180000Z
END:VEVENT
END:VCALENDAR
