BEGIN:VCALENDAR
VERSION:2.0
PRODID:SchoolNow
CALSCALE:GREGORIAN
BEGIN:VEVENT
UID:04799418-beb3-11ee-b834-0a0950df2855
DTSTAMP:20240129T143057Z
SUMMARY:Black History Month Presentation (Reserve Campus)
LOCATION:Reserve
URL;VALUE=URI:https://www.rpcc.edu/calendar/5225567/black-history-month-pre
 sentation-reserve-campus
DTSTART:20240221T163000Z
DTEND:20240221T173000Z
END:VEVENT
END:VCALENDAR
