BEGIN:VCALENDAR
VERSION:2.0
PRODID:SchoolNow
CALSCALE:GREGORIAN
BEGIN:VEVENT
UID:edfa7b26-beb2-11ee-b837-0e64731ff989
DTSTAMP:20240129T143418Z
SUMMARY:African American Mobile Museum (Reserve Campus)
LOCATION:Reserve
URL;VALUE=URI:https://www.rpcc.edu/calendar/5225566/african-american-mobile
 -museum
DTSTART:20240206T163000Z
DTEND:20240206T180000Z
END:VEVENT
END:VCALENDAR
