BEGIN:VCALENDAR
VERSION:2.0
PRODID:SchoolNow
CALSCALE:GREGORIAN
BEGIN:VEVENT
UID:2724f2a8-ab46-11ee-b3b1-0a58a9feac02
DTSTAMP:20240129T142832Z
SUMMARY:Last Day to Resign/Withdraw from Classes without W Grade
URL;VALUE=URI:https://www.rpcc.edu/calendar/5105586/last-day-to-resign-with
 draw-from-classes-without-w-grade
DTSTART;VALUE=DATE:20240205
DTEND;VALUE=DATE:20240206
END:VEVENT
END:VCALENDAR
