BEGIN:VCALENDAR
VERSION:2.0
PRODID:SchoolNow
CALSCALE:GREGORIAN
BEGIN:VEVENT
UID:fa027192-ab45-11ee-84c6-0a58a9feac02
DTSTAMP:20240129T142751Z
SUMMARY:Last Day to Register or Add Classes
URL;VALUE=URI:https://www.rpcc.edu/calendar/5105585/last-day-to-register-or
 -add-classes
DTSTART;VALUE=DATE:20240123
DTEND;VALUE=DATE:20240124
END:VEVENT
END:VCALENDAR
