BEGIN:VCALENDAR
VERSION:2.0
PRODID:SchoolNow
CALSCALE:GREGORIAN
BEGIN:VEVENT
UID:e658a0ee-ab45-11ee-a21c-0a58a9feac02
DTSTAMP:20240104T211200Z
SUMMARY:Registration/Payment Deadline
URL;VALUE=URI:https://www.rpcc.edu/calendar/5105584/registration-payment-de
 adline
DTSTART:20240109T140000Z
DTEND:20240110T050000Z
END:VEVENT
END:VCALENDAR
