BEGIN:VCALENDAR
VERSION:2.0
PRODID:SchoolNow
CALSCALE:GREGORIAN
BEGIN:VEVENT
UID:7ac1f7a4-ab45-11ee-960b-0a58a9feac02
DTSTAMP:20240104T210859Z
SUMMARY:Graduation
URL;VALUE=URI:https://www.rpcc.edu/calendar/5105583/graduation
DTSTART;VALUE=DATE:20240521
DTEND;VALUE=DATE:20240522
END:VEVENT
END:VCALENDAR
