BEGIN:VCALENDAR
VERSION:2.0
PRODID:SchoolNow
CALSCALE:GREGORIAN
BEGIN:VEVENT
UID:6ce08eee-ab44-11ee-9a42-0a58a9feac02
DTSTAMP:20240304T170042Z
SUMMARY:Community College Week Begins
URL;VALUE=URI:https://www.rpcc.edu/calendar/5105582/community-college-week-
 begins
DTSTART:20240408T130000Z
DTEND:20240412T210000Z
END:VEVENT
END:VCALENDAR
