BEGIN:VCALENDAR
VERSION:2.0
PRODID:SchoolNow
CALSCALE:GREGORIAN
BEGIN:VEVENT
UID:8a685772-ab43-11ee-a267-028532627791
DTSTAMP:20240104T205506Z
SUMMARY:Drinks and Chips (Westside)
URL;VALUE=URI:https://www.rpcc.edu/calendar/5105580/drinks-and-chips-westsi
 de
DTSTART;VALUE=DATE:20240119
DTEND;VALUE=DATE:20240120
END:VEVENT
END:VCALENDAR
