BEGIN:VCALENDAR
VERSION:2.0
PRODID:SchoolNow
CALSCALE:GREGORIAN
BEGIN:VEVENT
UID:7d2e1ea2-ab43-11ee-ba76-0a58a9feac02
DTSTAMP:20240104T205444Z
SUMMARY:Green Shamrock Suckers & Easter Bunny Lollipops (Westside Campus)
URL;VALUE=URI:https://www.rpcc.edu/calendar/5105579/green-shamrock-suckers-
 easter-bunny-lollipops-westside-campus
DTSTART;VALUE=DATE:20240118
DTEND;VALUE=DATE:20240119
END:VEVENT
END:VCALENDAR
