BEGIN:VCALENDAR
VERSION:2.0
PRODID:SchoolNow
CALSCALE:GREGORIAN
BEGIN:VEVENT
UID:69c040ca-ab43-11ee-83ab-0a58a9feac02
DTSTAMP:20240104T205412Z
SUMMARY:Nacho Giveaway (Westside)
URL;VALUE=URI:https://www.rpcc.edu/calendar/5105578/nacho-giveaway-westside
DTSTART;VALUE=DATE:20240117
DTEND;VALUE=DATE:20240118
END:VEVENT
END:VCALENDAR
