BEGIN:VCALENDAR
VERSION:2.0
PRODID:SchoolNow
CALSCALE:GREGORIAN
BEGIN:VEVENT
UID:567ef5b0-ab43-11ee-b238-0a58a9feac02
DTSTAMP:20240104T205339Z
SUMMARY:King Cake Mardi Gras Day (Westside Campus)
URL;VALUE=URI:https://www.rpcc.edu/calendar/5105577/king-cake-mardi-gras-da
 y-westside-campus
DTSTART;VALUE=DATE:20240116
DTEND;VALUE=DATE:20240117
END:VEVENT
END:VCALENDAR
