BEGIN:VCALENDAR
VERSION:2.0
PRODID:SchoolNow
CALSCALE:GREGORIAN
BEGIN:VEVENT
UID:3786e082-ab43-11ee-b39a-0a58a9feac02
DTSTAMP:20240104T205247Z
SUMMARY:Grab & Go Snacks (St. Charles)
URL;VALUE=URI:https://www.rpcc.edu/calendar/5105576/grab-go-snacks-st-charl
 es
DTSTART;VALUE=DATE:20240119
DTEND;VALUE=DATE:20240120
END:VEVENT
END:VCALENDAR
