BEGIN:VCALENDAR
VERSION:2.0
PRODID:SchoolNow
CALSCALE:GREGORIAN
BEGIN:VEVENT
UID:2d8263e0-ab43-11ee-8fb5-0a58a9feac02
DTSTAMP:20240104T205230Z
SUMMARY:Grab & Go Snacks (St. Charles)
URL;VALUE=URI:https://www.rpcc.edu/calendar/5105575/grab-go-snacks-st-charl
 es
DTSTART;VALUE=DATE:20240118
DTEND;VALUE=DATE:20240119
END:VEVENT
END:VCALENDAR
