BEGIN:VCALENDAR
VERSION:2.0
PRODID:SchoolNow
CALSCALE:GREGORIAN
BEGIN:VEVENT
UID:085ddb12-ab43-11ee-8da3-0a58a9feac02
DTSTAMP:20240104T205128Z
SUMMARY:Grab & Go Breakfast Sandwiches (St. Charles)
URL;VALUE=URI:https://www.rpcc.edu/calendar/5105574/grab-go-breakfast-sandw
 iches-st-charles
DTSTART:20240117T140000Z
DTEND:20240117T170000Z
END:VEVENT
END:VCALENDAR
