BEGIN:VCALENDAR
VERSION:2.0
PRODID:SchoolNow
CALSCALE:GREGORIAN
BEGIN:VEVENT
UID:e4c66a48-ab42-11ee-bc44-0a58a9feac02
DTSTAMP:20240104T205028Z
SUMMARY:Grab & Go Breakfast Sandwiches (St. Charles)
URL;VALUE=URI:https://www.rpcc.edu/calendar/5105573/grab-go-breakfast-sandw
 iches-st-charles
DTSTART:20240116T140000Z
DTEND:20240116T170000Z
END:VEVENT
END:VCALENDAR
