BEGIN:VCALENDAR
VERSION:2.0
PRODID:SchoolNow
CALSCALE:GREGORIAN
BEGIN:VEVENT
UID:b58052b2-ab42-11ee-86ed-0a58a9feac02
DTSTAMP:20240104T204909Z
SUMMARY:Nacho Giveaway (Reserve)
LOCATION:Building AB
URL;VALUE=URI:https://www.rpcc.edu/calendar/5105572/nacho-giveaway-reserve
DTSTART:20240118T200000Z
DTEND:20240118T220000Z
END:VEVENT
END:VCALENDAR
