BEGIN:VCALENDAR
VERSION:2.0
PRODID:SchoolNow
CALSCALE:GREGORIAN
BEGIN:VEVENT
UID:a12631b0-ab42-11ee-82c8-0a58a9feac02
DTSTAMP:20240104T204835Z
SUMMARY:Nacho Giveaway (Reserve)
LOCATION:Buildings K and AB
URL;VALUE=URI:https://www.rpcc.edu/calendar/5105571/nacho-giveaway-reserve
DTSTART:20240118T160000Z
DTEND:20240118T180000Z
END:VEVENT
END:VCALENDAR
