BEGIN:VCALENDAR
VERSION:2.0
PRODID:SchoolNow
CALSCALE:GREGORIAN
BEGIN:VEVENT
UID:678aee3c-ab42-11ee-a72f-0a58a9feac02
DTSTAMP:20240104T204658Z
SUMMARY:Popcorn giveaway (Reserve)
LOCATION:Building AB
URL;VALUE=URI:https://www.rpcc.edu/calendar/5105570/popcorn-giveaway-reserv
 e
DTSTART:20240117T230000Z
DTEND:20240118T000000Z
END:VEVENT
END:VCALENDAR
