BEGIN:VCALENDAR
VERSION:2.0
PRODID:SchoolNow
CALSCALE:GREGORIAN
BEGIN:VEVENT
UID:426891c2-ab42-11ee-88b0-0a58a9feac02
DTSTAMP:20240104T204727Z
SUMMARY:Popcorn giveaway with Movies (Reserve)
LOCATION:Media Center
URL;VALUE=URI:https://www.rpcc.edu/calendar/5105569/popcorn-giveaway-with-m
 ovies-reserve
DTSTART:20240117T160000Z
DTEND:20240117T200000Z
END:VEVENT
END:VCALENDAR
